BEGIN:VCALENDAR
BEGIN:VEVENT
DESCRIPTION:\nMore Information: https://store.coolidge.org/websales/pages/TicketSearchCriteria.aspx?evtInfo=997947~2227d6a5-68f5-41c2-b22e-813c872c64f4&\n\n
DTSTART:20260308T181500Z
DTEND:20260308T195800Z
LOCATION:Moviehouse 4, 290 Harvard St , BROOKLINE, MA, 02446
SUMMARY:A Private Life
UID:997947
DTSTAMP:20260421T033650Z
END:VEVENT
END:VCALENDAR
