BEGIN:VCALENDAR
BEGIN:VEVENT
DESCRIPTION:\nMore Information: https://store.coolidge.org/websales/pages/TicketSearchCriteria.aspx?evtInfo=997941~2227d6a5-68f5-41c2-b22e-813c872c64f4&\n\n
DTSTART:20260308T231500Z
DTEND:20260309T010200Z
LOCATION:Moviehouse 4, 290 Harvard St , BROOKLINE, MA, 02446
SUMMARY:Pillion
UID:997941
DTSTAMP:20260421T032617Z
END:VEVENT
END:VCALENDAR
