BEGIN:VCALENDAR
BEGIN:VEVENT
DESCRIPTION:\nMore Information: https://store.coolidge.org/websales/pages/TicketSearchCriteria.aspx?evtInfo=997884~2227d6a5-68f5-41c2-b22e-813c872c64f4&\n\n
DTSTART:20260308T201500Z
DTEND:20260308T222100Z
LOCATION:Moviehouse 5, 290 Harvard St, Brookline, MA, 02446
SUMMARY:The Bride!
UID:997884
DTSTAMP:20260421T033713Z
END:VEVENT
END:VCALENDAR
