BEGIN:VCALENDAR
BEGIN:VEVENT
DESCRIPTION:\nMore Information: https://store.coolidge.org/websales/pages/TicketSearchCriteria.aspx?evtInfo=878248~2227d6a5-68f5-41c2-b22e-813c872c64f4&\n\n
DTSTART:20240621T174500Z
DTEND:20240621T194000Z
LOCATION:Moviehouse 5, 290 Harvard St, Brookline, MA, 02446
SUMMARY:Hit Man
UID:878248
DTSTAMP:20260420T110142Z
END:VEVENT
END:VCALENDAR
