BEGIN:VCALENDAR
BEGIN:VEVENT
DESCRIPTION:\nMore Information: https://store.coolidge.org/websales/pages/TicketSearchCriteria.aspx?evtInfo=1008394~2227d6a5-68f5-41c2-b22e-813c872c64f4&\n\n
DTSTART:20260517T035900Z
DTEND:20260517T053400Z
LOCATION:Moviehouse 5, 290 Harvard St, Brookline, MA, 02446
SUMMARY:Santo vs. Doctor Death
UID:1008394
DTSTAMP:20260423T153105Z
END:VEVENT
END:VCALENDAR
