BEGIN:VCALENDAR
BEGIN:VEVENT
DESCRIPTION:\nMore Information: https://store.coolidge.org/websales/pages/TicketSearchCriteria.aspx?evtInfo=1008389~2227d6a5-68f5-41c2-b22e-813c872c64f4&\n\n
DTSTART:20260509T035900Z
DTEND:20260509T052400Z
LOCATION:Moviehouse 1, 290 Harvard St, BROOKLINE, MA, 02446
SUMMARY:Eraserhead
UID:1008389
DTSTAMP:20260425T055645Z
END:VEVENT
END:VCALENDAR
