BEGIN:VCALENDAR
BEGIN:VEVENT
DESCRIPTION:\nMore Information: https://store.coolidge.org/websales/pages/TicketSearchCriteria.aspx?evtInfo=1008072~2227d6a5-68f5-41c2-b22e-813c872c64f4&\n\n
DTSTART:20260425T171500Z
DTEND:20260425T191700Z
LOCATION:Moviehouse 4, 290 Harvard St , BROOKLINE, MA, 02446
SUMMARY:The Stranger (2025)
UID:1008072
DTSTAMP:20260425T133843Z
END:VEVENT
END:VCALENDAR
