BEGIN:VCALENDAR
BEGIN:VEVENT
DESCRIPTION:\nMore Information: https://store.coolidge.org/websales/pages/TicketSearchCriteria.aspx?evtInfo=1008042~2227d6a5-68f5-41c2-b22e-813c872c64f4&\n\n
DTSTART:20260424T183000Z
DTEND:20260424T201000Z
LOCATION:Moviehouse 6, 290 Harvard St, Brookline, MA, 02446
SUMMARY:The Christophers
UID:1008042
DTSTAMP:20260424T091237Z
END:VEVENT
END:VCALENDAR
