BEGIN:VCALENDAR
BEGIN:VEVENT
DESCRIPTION:\nMore Information: https://store.coolidge.org/websales/pages/TicketSearchCriteria.aspx?evtInfo=1008039~2227d6a5-68f5-41c2-b22e-813c872c64f4&\n\n
DTSTART:20260424T223000Z
DTEND:20260425T001000Z
LOCATION:Moviehouse 4, 290 Harvard St , BROOKLINE, MA, 02446
SUMMARY:The Christophers
UID:1008039
DTSTAMP:20260424T092155Z
END:VEVENT
END:VCALENDAR
