BEGIN:VCALENDAR
BEGIN:VEVENT
DESCRIPTION:\nMore Information: https://store.coolidge.org/websales/pages/TicketSearchCriteria.aspx?evtInfo=1008035~2227d6a5-68f5-41c2-b22e-813c872c64f4&\n\n
DTSTART:20260424T233000Z
DTEND:20260425T013000Z
LOCATION:Moviehouse 3, 290 Harvard St , BROOKLINE, MA, 02446
SUMMARY:I Swear
UID:1008035
DTSTAMP:20260424T091517Z
END:VEVENT
END:VCALENDAR
