BEGIN:VCALENDAR
BEGIN:VEVENT
DESCRIPTION:\nMore Information: https://store.coolidge.org/websales/pages/TicketSearchCriteria.aspx?evtInfo=1008025~2227d6a5-68f5-41c2-b22e-813c872c64f4&\n\n
DTSTART:20260424T203000Z
DTEND:20260424T221600Z
LOCATION:Moviehouse 2, 290 Harvard St , BROOKLINE, MA, 02446
SUMMARY:The Drama
UID:1008025
DTSTAMP:20260424T092359Z
END:VEVENT
END:VCALENDAR
