BEGIN:VCALENDAR
BEGIN:VEVENT
DESCRIPTION:\nMore Information: https://store.coolidge.org/websales/pages/TicketSearchCriteria.aspx?evtInfo=1006666~2227d6a5-68f5-41c2-b22e-813c872c64f4&\n\n
DTSTART:20260423T204500Z
DTEND:20260423T223900Z
LOCATION:Moviehouse 4, 290 Harvard St , BROOKLINE, MA, 02446
SUMMARY:Hamlet (2025)
UID:1006666
DTSTAMP:20260423T055426Z
END:VEVENT
END:VCALENDAR
