BEGIN:VCALENDAR
BEGIN:VEVENT
DESCRIPTION:\nMore Information: https://store.coolidge.org/websales/pages/TicketSearchCriteria.aspx?evtInfo=1006661~2227d6a5-68f5-41c2-b22e-813c872c64f4&\n\n
DTSTART:20260420T015500Z
DTEND:20260420T034900Z
LOCATION:Moviehouse 4, 290 Harvard St , BROOKLINE, MA, 02446
SUMMARY:Hamlet (2025)
UID:1006661
DTSTAMP:20260419T072223Z
END:VEVENT
END:VCALENDAR
