BEGIN:VCALENDAR
BEGIN:VEVENT
DESCRIPTION:\nMore Information: https://store.coolidge.org/websales/pages/TicketSearchCriteria.aspx?evtInfo=1006653~2227d6a5-68f5-41c2-b22e-813c872c64f4&\n\n
DTSTART:20260420T200000Z
DTEND:20260420T215400Z
LOCATION:Moviehouse 4, 290 Harvard St , BROOKLINE, MA, 02446
SUMMARY:Hamlet (2025)
UID:1006653
DTSTAMP:20260420T071753Z
END:VEVENT
END:VCALENDAR
