BEGIN:VCALENDAR
BEGIN:VEVENT
DESCRIPTION:\nMore Information: https://store.coolidge.org/websales/pages/TicketSearchCriteria.aspx?evtInfo=1006649~2227d6a5-68f5-41c2-b22e-813c872c64f4&\n\n
DTSTART:20260419T181500Z
DTEND:20260419T200900Z
LOCATION:Moviehouse 4, 290 Harvard St , BROOKLINE, MA, 02446
SUMMARY:Hamlet (2025)
UID:1006649
DTSTAMP:20260419T075030Z
END:VEVENT
END:VCALENDAR
