BEGIN:VCALENDAR
BEGIN:VEVENT
DESCRIPTION:\nMore Information: https://store.coolidge.org/websales/pages/TicketSearchCriteria.aspx?evtInfo=1006646~2227d6a5-68f5-41c2-b22e-813c872c64f4&\n\n
DTSTART:20260421T015500Z
DTEND:20260421T033000Z
LOCATION:Moviehouse 4, 290 Harvard St , BROOKLINE, MA, 02446
SUMMARY:Exit 8
UID:1006646
DTSTAMP:20260420T071918Z
END:VEVENT
END:VCALENDAR
