BEGIN:VCALENDAR
BEGIN:VEVENT
DESCRIPTION:\nMore Information: https://store.coolidge.org/websales/pages/TicketSearchCriteria.aspx?evtInfo=1006645~2227d6a5-68f5-41c2-b22e-813c872c64f4&\n\n
DTSTART:20260422T021500Z
DTEND:20260422T035000Z
LOCATION:Moviehouse 1, 290 Harvard St, BROOKLINE, MA, 02446
SUMMARY:Exit 8
UID:1006645
DTSTAMP:20260421T070917Z
END:VEVENT
END:VCALENDAR
