BEGIN:VCALENDAR
BEGIN:VEVENT
DESCRIPTION:\nMore Information: https://store.coolidge.org/websales/pages/TicketSearchCriteria.aspx?evtInfo=1006644~2227d6a5-68f5-41c2-b22e-813c872c64f4&\n\n
DTSTART:20260420T010000Z
DTEND:20260420T023500Z
LOCATION:Moviehouse 3, 290 Harvard St , BROOKLINE, MA, 02446
SUMMARY:Exit 8
UID:1006644
DTSTAMP:20260419T072332Z
END:VEVENT
END:VCALENDAR
