BEGIN:VCALENDAR
BEGIN:VEVENT
DESCRIPTION:\nMore Information: https://store.coolidge.org/websales/pages/TicketSearchCriteria.aspx?evtInfo=1006634~2227d6a5-68f5-41c2-b22e-813c872c64f4&\n\n
DTSTART:20260419T173000Z
DTEND:20260419T190500Z
LOCATION:Moviehouse 3, 290 Harvard St , BROOKLINE, MA, 02446
SUMMARY:Exit 8
UID:1006634
DTSTAMP:20260419T072410Z
END:VEVENT
END:VCALENDAR
