BEGIN:VCALENDAR
BEGIN:VEVENT
DESCRIPTION:\nMore Information: https://store.coolidge.org/websales/pages/TicketSearchCriteria.aspx?evtInfo=1006628~2227d6a5-68f5-41c2-b22e-813c872c64f4&\n\n
DTSTART:20260423T013000Z
DTEND:20260423T033200Z
LOCATION:Moviehouse 1, 290 Harvard St, BROOKLINE, MA, 02446
SUMMARY:The Stranger (2025)
UID:1006628
DTSTAMP:20260422T090749Z
END:VEVENT
END:VCALENDAR
