BEGIN:VCALENDAR
BEGIN:VEVENT
DESCRIPTION:\nMore Information: https://store.coolidge.org/websales/pages/TicketSearchCriteria.aspx?evtInfo=1006616~2227d6a5-68f5-41c2-b22e-813c872c64f4&\n\n
DTSTART:20260421T193000Z
DTEND:20260421T213200Z
LOCATION:Moviehouse 3, 290 Harvard St , BROOKLINE, MA, 02446
SUMMARY:The Stranger (2025)
UID:1006616
DTSTAMP:20260421T070128Z
END:VEVENT
END:VCALENDAR
