BEGIN:VCALENDAR
BEGIN:VEVENT
DESCRIPTION:\nMore Information: https://store.coolidge.org/websales/pages/TicketSearchCriteria.aspx?evtInfo=1006613~2227d6a5-68f5-41c2-b22e-813c872c64f4&\n\n
DTSTART:20260419T163000Z
DTEND:20260419T183200Z
LOCATION:Moviehouse 6, 290 Harvard St, Brookline, MA, 02446
SUMMARY:The Stranger (2025)
UID:1006613
DTSTAMP:20260419T072437Z
END:VEVENT
END:VCALENDAR
