BEGIN:VCALENDAR
BEGIN:VEVENT
DESCRIPTION:\nMore Information: https://store.coolidge.org/websales/pages/TicketSearchCriteria.aspx?evtInfo=1006594~2227d6a5-68f5-41c2-b22e-813c872c64f4&\n\nThis is an OPEN CAPTION showtime.
DTSTART:20260423T180000Z
DTEND:20260423T194000Z
LOCATION:Moviehouse 5, 290 Harvard St, Brookline, MA, 02446
SUMMARY:The Christophers
UID:1006594
DTSTAMP:20260421T050603Z
END:VEVENT
END:VCALENDAR
