BEGIN:VCALENDAR
BEGIN:VEVENT
DESCRIPTION:\nMore Information: https://store.coolidge.org/websales/pages/TicketSearchCriteria.aspx?evtInfo=1006562~2227d6a5-68f5-41c2-b22e-813c872c64f4&\n\n
DTSTART:20260417T173000Z
DTEND:20260417T190500Z
LOCATION:Moviehouse 3, 290 Harvard St , BROOKLINE, MA, 02446
SUMMARY:Exit 8
UID:1006562
DTSTAMP:20260421T033642Z
END:VEVENT
END:VCALENDAR
