BEGIN:VCALENDAR
BEGIN:VEVENT
DESCRIPTION:\nMore Information: https://store.coolidge.org/websales/pages/TicketSearchCriteria.aspx?evtInfo=1006544~2227d6a5-68f5-41c2-b22e-813c872c64f4&\n\nThis is an OPEN CAPTION showtime.
DTSTART:20260423T160000Z
DTEND:20260423T183500Z
LOCATION:Moviehouse 1, 290 Harvard St, BROOKLINE, MA, 02446
SUMMARY:Project Hail Mary (Digital)
UID:1006544
DTSTAMP:20260423T052230Z
END:VEVENT
END:VCALENDAR
