BEGIN:VCALENDAR
BEGIN:VEVENT
DESCRIPTION:\nMore Information: https://store.coolidge.org/websales/pages/TicketSearchCriteria.aspx?evtInfo=1006543~2227d6a5-68f5-41c2-b22e-813c872c64f4&\n\n
DTSTART:20260422T234500Z
DTEND:20260423T022000Z
LOCATION:Moviehouse 5, 290 Harvard St, Brookline, MA, 02446
SUMMARY:Project Hail Mary (Digital)
UID:1006543
DTSTAMP:20260422T090646Z
END:VEVENT
END:VCALENDAR
