BEGIN:VCALENDAR
BEGIN:VEVENT
DESCRIPTION:\nMore Information: https://store.coolidge.org/websales/pages/TicketSearchCriteria.aspx?evtInfo=1006542~2227d6a5-68f5-41c2-b22e-813c872c64f4&\n\n
DTSTART:20260420T234500Z
DTEND:20260421T022000Z
LOCATION:Moviehouse 5, 290 Harvard St, Brookline, MA, 02446
SUMMARY:Project Hail Mary (Digital)
UID:1006542
DTSTAMP:20260420T071609Z
END:VEVENT
END:VCALENDAR
