BEGIN:VCALENDAR
BEGIN:VEVENT
DESCRIPTION:\nMore Information: https://store.coolidge.org/websales/pages/TicketSearchCriteria.aspx?evtInfo=1006541~2227d6a5-68f5-41c2-b22e-813c872c64f4&\n\nThis is an OPEN CAPTION showtime.
DTSTART:20260421T234500Z
DTEND:20260422T022000Z
LOCATION:Moviehouse 5, 290 Harvard St, Brookline, MA, 02446
SUMMARY:Project Hail Mary (Digital)
UID:1006541
DTSTAMP:20260421T050701Z
END:VEVENT
END:VCALENDAR
