BEGIN:VCALENDAR
BEGIN:VEVENT
DESCRIPTION:\nMore Information: https://store.coolidge.org/websales/pages/TicketSearchCriteria.aspx?evtInfo=1006540~2227d6a5-68f5-41c2-b22e-813c872c64f4&\n\n
DTSTART:20260421T200000Z
DTEND:20260421T223500Z
LOCATION:Moviehouse 5, 290 Harvard St, Brookline, MA, 02446
SUMMARY:Project Hail Mary (Digital)
UID:1006540
DTSTAMP:20260421T070946Z
END:VEVENT
END:VCALENDAR
