BEGIN:VCALENDAR
BEGIN:VEVENT
DESCRIPTION:\nMore Information: https://store.coolidge.org/websales/pages/TicketSearchCriteria.aspx?evtInfo=1006537~2227d6a5-68f5-41c2-b22e-813c872c64f4&\n\n
DTSTART:20260420T194500Z
DTEND:20260420T222000Z
LOCATION:Moviehouse 1, 290 Harvard St, BROOKLINE, MA, 02446
SUMMARY:Project Hail Mary (Digital)
UID:1006537
DTSTAMP:20260420T071918Z
END:VEVENT
END:VCALENDAR
