BEGIN:VCALENDAR
BEGIN:VEVENT
DESCRIPTION:\nMore Information: https://store.coolidge.org/websales/pages/TicketSearchCriteria.aspx?evtInfo=1006536~2227d6a5-68f5-41c2-b22e-813c872c64f4&\n\n
DTSTART:20260419T234500Z
DTEND:20260420T022100Z
LOCATION:Moviehouse 1, 290 Harvard St, BROOKLINE, MA, 02446
SUMMARY:Project Hail Mary in 70mm
UID:1006536
DTSTAMP:20260419T072438Z
END:VEVENT
END:VCALENDAR
