BEGIN:VCALENDAR
BEGIN:VEVENT
DESCRIPTION:\nMore Information: https://store.coolidge.org/websales/pages/TicketSearchCriteria.aspx?evtInfo=1005750~2227d6a5-68f5-41c2-b22e-813c872c64f4&\n\n
DTSTART:20260604T230000Z
DTEND:20260605T014000Z
LOCATION:Moviehouse 1, 290 Harvard St, BROOKLINE, MA, 02446
SUMMARY:Cinema Jukebox(R): Amadeus
UID:1005750
DTSTAMP:20260425T073940Z
END:VEVENT
END:VCALENDAR
